BEGIN:VCALENDAR
VERSION:2.0
PRODID:-//甲南高等学校・中学校サッカー部 web - ECPv4.7.3//NONSGML v1.0//EN
CALSCALE:GREGORIAN
METHOD:PUBLISH
X-WR-CALNAME:甲南高等学校・中学校サッカー部 web
X-ORIGINAL-URL:https://konan-football.com
X-WR-CALDESC:Events for 甲南高等学校・中学校サッカー部 web
BEGIN:VEVENT
DTSTART;VALUE=DATE:20240325
DTEND;VALUE=DATE:20240328
DTSTAMP:20260421T113155
CREATED:20240229T151730Z
LAST-MODIFIED:20240229T151730Z
UID:9293-1711324800-1711583999@konan-football.com
SUMMARY:徳島遠征
DESCRIPTION:徳島遠征 \n１日目　\n対徳島北B　１２：４５KO　（トップリーグ戦）　対岡山明誠　１４：００KO　徳島商業　１６；３０KO \n２日目 \n３日目 \n
URL:https://konan-football.com/calendar/%e5%be%b3%e5%b3%b6%e9%81%a0%e5%be%81/
LOCATION:徳島スポーツビレッジ
CATEGORIES:中学3年生,高校サテライト,高校トップ
END:VEVENT
END:VCALENDAR