BEGIN:VCALENDAR
VERSION:2.0
PRODID:-//甲南高等学校・中学校サッカー部 web - ECPv4.7.3//NONSGML v1.0//EN
CALSCALE:GREGORIAN
METHOD:PUBLISH
X-WR-CALNAME:甲南高等学校・中学校サッカー部 web
X-ORIGINAL-URL:https://konan-football.com
X-WR-CALDESC:Events for 甲南高等学校・中学校サッカー部 web
BEGIN:VEVENT
DTSTART;TZID=Asia/Tokyo:20210508T120000
DTEND;TZID=Asia/Tokyo:20210508T140000
DTSTAMP:20260422T203208
CREATED:20210424T162057Z
LAST-MODIFIED:20210424T162057Z
UID:7876-1620475200-1620482400@konan-football.com
SUMMARY:総合体育大会
DESCRIPTION:総合体育大会　3回戦　芦屋学園G \n対　　　　　１２：００KO \n
URL:https://konan-football.com/calendar/%e7%b7%8f%e5%90%88%e4%bd%93%e8%82%b2%e5%a4%a7%e4%bc%9a-2/
LOCATION:芦屋学園G
CATEGORIES:高校トップ
END:VEVENT
END:VCALENDAR