BEGIN:VCALENDAR
VERSION:2.0
PRODID:-//甲南高等学校・中学校サッカー部 web - ECPv4.7.3//NONSGML v1.0//EN
CALSCALE:GREGORIAN
METHOD:PUBLISH
X-WR-CALNAME:甲南高等学校・中学校サッカー部 web
X-ORIGINAL-URL:https://konan-football.com
X-WR-CALDESC:Events for 甲南高等学校・中学校サッカー部 web
BEGIN:VEVENT
DTSTART;TZID=Asia/Tokyo:20201103T123000
DTEND;TZID=Asia/Tokyo:20201103T170000
DTSTAMP:20260422T025345
CREATED:20201030T235519Z
LAST-MODIFIED:20201102T132112Z
UID:7539-1604406600-1604422800@konan-football.com
SUMMARY:練習試合　高校
DESCRIPTION:練習試合 \n対有馬　１２：３０～ \n対三田西陵 \n
URL:https://konan-football.com/calendar/%e7%b7%b4%e7%bf%92%e8%a9%a6%e5%90%88%e3%80%80%e9%ab%98%e6%a0%a1-10/
LOCATION:有馬高校
CATEGORIES:中学3年生,高校サテライト,高校トップ
END:VEVENT
END:VCALENDAR