BEGIN:VCALENDAR
VERSION:2.0
PRODID:-//甲南高等学校・中学校サッカー部 web - ECPv4.7.3//NONSGML v1.0//EN
CALSCALE:GREGORIAN
METHOD:PUBLISH
X-WR-CALNAME:甲南高等学校・中学校サッカー部 web
X-ORIGINAL-URL:https://konan-football.com
X-WR-CALDESC:Events for 甲南高等学校・中学校サッカー部 web
BEGIN:VEVENT
DTSTART;TZID=Asia/Tokyo:20201115T090000
DTEND;TZID=Asia/Tokyo:20201115T120000
DTSTAMP:20260422T054638
CREATED:20201030T235756Z
LAST-MODIFIED:20201030T235756Z
UID:7543-1605430800-1605441600@konan-football.com
SUMMARY:練習試合　高校
DESCRIPTION:練習試合 \n対尼崎北　９：００　KO \n  \n
URL:https://konan-football.com/calendar/%e7%b7%b4%e7%bf%92%e8%a9%a6%e5%90%88%e3%80%80%e9%ab%98%e6%a0%a1-11/
LOCATION:尼崎北高校
CATEGORIES:中学3年生,高校サテライト,高校トップ
END:VEVENT
END:VCALENDAR