BEGIN:VCALENDAR
VERSION:2.0
PRODID:-//甲南高等学校・中学校サッカー部 web - ECPv4.7.3//NONSGML v1.0//EN
CALSCALE:GREGORIAN
METHOD:PUBLISH
X-WR-CALNAME:甲南高等学校・中学校サッカー部 web
X-ORIGINAL-URL:https://konan-football.com
X-WR-CALDESC:Events for 甲南高等学校・中学校サッカー部 web
BEGIN:VEVENT
DTSTART;TZID=Asia/Tokyo:20240503T080000
DTEND;TZID=Asia/Tokyo:20240503T170000
DTSTAMP:20260421T050429
CREATED:20240417T155609Z
LAST-MODIFIED:20240417T155616Z
UID:9423-1714723200-1714755600@konan-football.com
SUMMARY:練習試合
DESCRIPTION:練習試合 \n対甲陵中 \nG \n
URL:https://konan-football.com/calendar/%e7%b7%b4%e7%bf%92%e8%a9%a6%e5%90%88-41/
CATEGORIES:中学1・2年生,中学3年生
END:VEVENT
END:VCALENDAR