BEGIN:VCALENDAR
VERSION:2.0
PRODID:-//甲南高等学校・中学校サッカー部 web - ECPv4.7.3//NONSGML v1.0//EN
CALSCALE:GREGORIAN
METHOD:PUBLISH
X-WR-CALNAME:甲南高等学校・中学校サッカー部 web
X-ORIGINAL-URL:https://konan-football.com
X-WR-CALDESC:Events for 甲南高等学校・中学校サッカー部 web
BEGIN:VEVENT
DTSTART;TZID=Asia/Tokyo:20210502T113000
DTEND;TZID=Asia/Tokyo:20210502T130000
DTSTAMP:20260422T204424
CREATED:20210331T162741Z
LAST-MODIFIED:20210424T161228Z
UID:7812-1619955000-1619960400@konan-football.com
SUMMARY:芦屋市内リーグ戦（中学）
DESCRIPTION:芦屋市内リーグ戦（中学）   延期となりました \n対潮見中学　１１：３０KO \n芦屋中央G \n
URL:https://konan-football.com/calendar/%e8%8a%a6%e5%b1%8b%e5%b8%82%e5%86%85%e3%83%aa%e3%83%bc%e3%82%b0%e6%88%a6%ef%bc%88%e4%b8%ad%e5%ad%a6%ef%bc%89-2/
LOCATION:芦屋中央公園G
CATEGORIES:中学1・2年生,中学3年生
END:VEVENT
END:VCALENDAR